BEGIN:VCALENDAR
VERSION:2.0
PRODID:-//Southern Golf Group - ECPv6.15.13//NONSGML v1.0//EN
CALSCALE:GREGORIAN
METHOD:PUBLISH
X-ORIGINAL-URL:https://southerngolfgroup.com
X-WR-CALDESC:Events for Southern Golf Group
REFRESH-INTERVAL;VALUE=DURATION:PT1H
X-Robots-Tag:noindex
X-PUBLISHED-TTL:PT1H
BEGIN:VTIMEZONE
TZID:Australia/Adelaide
BEGIN:STANDARD
TZOFFSETFROM:+1030
TZOFFSETTO:+0930
TZNAME:ACST
DTSTART:20220402T163000
END:STANDARD
BEGIN:DAYLIGHT
TZOFFSETFROM:+0930
TZOFFSETTO:+1030
TZNAME:ACDT
DTSTART:20221001T163000
END:DAYLIGHT
BEGIN:STANDARD
TZOFFSETFROM:+1030
TZOFFSETTO:+0930
TZNAME:ACST
DTSTART:20230401T163000
END:STANDARD
BEGIN:DAYLIGHT
TZOFFSETFROM:+0930
TZOFFSETTO:+1030
TZNAME:ACDT
DTSTART:20230930T163000
END:DAYLIGHT
BEGIN:STANDARD
TZOFFSETFROM:+1030
TZOFFSETTO:+0930
TZNAME:ACST
DTSTART:20240406T163000
END:STANDARD
BEGIN:DAYLIGHT
TZOFFSETFROM:+0930
TZOFFSETTO:+1030
TZNAME:ACDT
DTSTART:20241005T163000
END:DAYLIGHT
BEGIN:STANDARD
TZOFFSETFROM:+1030
TZOFFSETTO:+0930
TZNAME:ACST
DTSTART:20250405T163000
END:STANDARD
BEGIN:DAYLIGHT
TZOFFSETFROM:+0930
TZOFFSETTO:+1030
TZNAME:ACDT
DTSTART:20251004T163000
END:DAYLIGHT
BEGIN:STANDARD
TZOFFSETFROM:+1030
TZOFFSETTO:+0930
TZNAME:ACST
DTSTART:20260404T163000
END:STANDARD
BEGIN:DAYLIGHT
TZOFFSETFROM:+0930
TZOFFSETTO:+1030
TZNAME:ACDT
DTSTART:20261003T163000
END:DAYLIGHT
BEGIN:STANDARD
TZOFFSETFROM:+1030
TZOFFSETTO:+0930
TZNAME:ACST
DTSTART:20270403T163000
END:STANDARD
BEGIN:DAYLIGHT
TZOFFSETFROM:+0930
TZOFFSETTO:+1030
TZNAME:ACDT
DTSTART:20271002T163000
END:DAYLIGHT
END:VTIMEZONE
BEGIN:VEVENT
DTSTART;VALUE=DATE:20260308
DTEND;VALUE=DATE:20260309
DTSTAMP:20260419T214232
CREATED:20260217T030145Z
LAST-MODIFIED:20260217T030145Z
UID:3179-1772928000-1773014399@southerngolfgroup.com
SUMMARY:Echunga Autumn Classic
DESCRIPTION:Echunga Classic Flyer 2026 \nEchunga Classic Entry Form 2026
URL:https://southerngolfgroup.com/events/echunga-autumn-classic/
LOCATION:Echunga Golf Club\, Corner Hahndorf & Dolman Roads\, Echunga\, Echunga\, 5153\, Australia
CATEGORIES:Mixed Open Event
END:VEVENT
BEGIN:VEVENT
DTSTART;VALUE=DATE:20260208
DTEND;VALUE=DATE:20260209
DTSTAMP:20260419T214232
CREATED:20260111T205312Z
LAST-MODIFIED:20260111T205312Z
UID:3124-1770508800-1770595199@southerngolfgroup.com
SUMMARY:2026 Lake Albert Drummonds Ambrose
DESCRIPTION:2026 Lake Albert Drummonds Entry Form
URL:https://southerngolfgroup.com/events/2026-lake-albert-drummonds-ambrose/
LOCATION:Lake Albert Golf Club
CATEGORIES:Mixed Open Event
END:VEVENT
BEGIN:VEVENT
DTSTART;VALUE=DATE:20260126
DTEND;VALUE=DATE:20260127
DTSTAMP:20260419T214232
CREATED:20260111T205509Z
LAST-MODIFIED:20260111T205604Z
UID:3127-1769385600-1769471999@southerngolfgroup.com
SUMMARY:Victor Harbor Australia Day Golf Tournament
DESCRIPTION:Australia Day Golf Tournament Flyer
URL:https://southerngolfgroup.com/events/victor-harbor-australia-day-golf-tournament/
LOCATION:Victor Harbor Golf Club\, 126 Inman Valley Road\, Victor Harbor\, SA\, 5211\, Australia
CATEGORIES:Mixed Open Event
END:VEVENT
BEGIN:VEVENT
DTSTART;TZID=Australia/Adelaide:20251205T080000
DTEND;TZID=Australia/Adelaide:20251207T170000
DTSTAMP:20260419T214232
CREATED:20241201T205646Z
LAST-MODIFIED:20250922T045357Z
UID:2702-1764921600-1765126800@southerngolfgroup.com
SUMMARY:2025 Lake Albert 3 Day Festive Season Event
DESCRIPTION:Friday 5th – Ladies LaLa Classic \nSaturday 6th – Mixed 4BBB \nSunday 7th – Murraylands Men’s 27 Hole Ambrose Championship \nDownload Flyer and Entry Form here: 3 Day Festive Season Event Flyer and Entry Form
URL:https://southerngolfgroup.com/events/2025-lake-albert-3-day-festive-season-event/
LOCATION:Lake Albert Golf Club
CATEGORIES:Mixed Open Event,Women's Open Event
END:VEVENT
BEGIN:VEVENT
DTSTART;VALUE=DATE:20251018
DTEND;VALUE=DATE:20251020
DTSTAMP:20260419T214232
CREATED:20250811T004221Z
LAST-MODIFIED:20250811T004221Z
UID:3020-1760745600-1760918399@southerngolfgroup.com
SUMMARY:2025 Kingston Cup
DESCRIPTION:2025 Kingston Cup_Flyer \n2025 Kingston Cup_Entry Form
URL:https://southerngolfgroup.com/events/2025-kingston-cup/
LOCATION:Kingston Golf Club\, 107 Golflinks Road\, Kingston\, South Australia\, 5275\, Australia
CATEGORIES:Mixed Open Event
END:VEVENT
BEGIN:VEVENT
DTSTART;TZID=Australia/Adelaide:20251011T080000
DTEND;TZID=Australia/Adelaide:20251012T170000
DTSTAMP:20260419T214232
CREATED:20241201T204930Z
LAST-MODIFIED:20241201T204930Z
UID:2700-1760169600-1760288400@southerngolfgroup.com
SUMMARY:2025 McCracken Cup
DESCRIPTION:2025 McCracken Cup
URL:https://southerngolfgroup.com/events/2025-mccracken-cup/
LOCATION:McCracken Golf Club\, McCracken Drive\, McCracken\, South Australia\, 5211\, Australia
CATEGORIES:Mixed Open Event
END:VEVENT
BEGIN:VEVENT
DTSTART;VALUE=DATE:20250504
DTEND;VALUE=DATE:20250505
DTSTAMP:20260419T214232
CREATED:20250409T030922Z
LAST-MODIFIED:20250409T030922Z
UID:2913-1746316800-1746403199@southerngolfgroup.com
SUMMARY:Lake Albert Golf Club - Shamble
DESCRIPTION:Lake Albert Shamble_Flyer \nLake Albert Shamble_Entry Form
URL:https://southerngolfgroup.com/events/lake-albert-golf-club-shamble/
LOCATION:Lake Albert Golf Club
CATEGORIES:Mixed Open Event
END:VEVENT
BEGIN:VEVENT
DTSTART;VALUE=DATE:20250309
DTEND;VALUE=DATE:20250310
DTSTAMP:20260419T214232
CREATED:20250225T020641Z
LAST-MODIFIED:20250225T020641Z
UID:2803-1741478400-1741564799@southerngolfgroup.com
SUMMARY:2025 Echunga Golf Club Autumn Classic
DESCRIPTION:Autumn Classic Details – 2025 Flyer \nAutumn Classic Details – 2025 Entry Form
URL:https://southerngolfgroup.com/events/2025-echunga-golf-club-autumn-classic/
LOCATION:Echunga Golf Club\, Corner Hahndorf & Dolman Roads\, Echunga\, Echunga\, 5153\, Australia
CATEGORIES:Mixed Open Event
END:VEVENT
BEGIN:VEVENT
DTSTART;VALUE=DATE:20241130
DTEND;VALUE=DATE:20241201
DTSTAMP:20260419T214232
CREATED:20240111T064631Z
LAST-MODIFIED:20240924T013712Z
UID:2415-1732924800-1733011199@southerngolfgroup.com
SUMMARY:2024 Lake Albert 3 Day Festive Season (Men & Women)
DESCRIPTION:Download Entry Form and Flyer: 2024 Lake Albert Golf Club 3 Day Festive Season Event
URL:https://southerngolfgroup.com/events/lake-albert-2024-4bbb-men-women/
LOCATION:Lake Albert Golf Club
CATEGORIES:Mixed Open Event
END:VEVENT
BEGIN:VEVENT
DTSTART;VALUE=DATE:20241012
DTEND;VALUE=DATE:20241014
DTSTAMP:20260419T214232
CREATED:20240916T104802Z
LAST-MODIFIED:20240916T104802Z
UID:2646-1728691200-1728863999@southerngolfgroup.com
SUMMARY:2024 McCracken Cup
DESCRIPTION:2024 McCracken Cup_Flyer
URL:https://southerngolfgroup.com/events/2024-mccracken-cup/
LOCATION:McCracken Golf Club\, McCracken Drive\, McCracken\, South Australia\, 5211\, Australia
CATEGORIES:Mixed Open Event
END:VEVENT
BEGIN:VEVENT
DTSTART;VALUE=DATE:20231007
DTEND;VALUE=DATE:20231009
DTSTAMP:20260419T214232
CREATED:20230104T045645Z
LAST-MODIFIED:20231001T042433Z
UID:1549-1696636800-1696809599@southerngolfgroup.com
SUMMARY:McCracken GC McCracken Cup
DESCRIPTION:Click on the following links to download the event flyer and entry form: \n2023 McCracken Cup_Flyer 2023  \nMcCracken Cup_Entry form 2023
URL:https://southerngolfgroup.com/events/2023-mccracken-gc-mccracken-cup/
LOCATION:McCracken Golf Club\, McCracken Drive\, McCracken\, South Australia\, 5211\, Australia
CATEGORIES:Mixed Open Event
END:VEVENT
END:VCALENDAR