BEGIN:VCALENDAR
VERSION:2.0
PRODID:-//Southern Golf Group - ECPv6.15.13//NONSGML v1.0//EN
CALSCALE:GREGORIAN
METHOD:PUBLISH
X-WR-CALNAME:Southern Golf Group
X-ORIGINAL-URL:https://southerngolfgroup.com
X-WR-CALDESC:Events for Southern Golf Group
REFRESH-INTERVAL;VALUE=DURATION:PT1H
X-Robots-Tag:noindex
X-PUBLISHED-TTL:PT1H
BEGIN:VTIMEZONE
TZID:Australia/Adelaide
BEGIN:STANDARD
TZOFFSETFROM:+1030
TZOFFSETTO:+0930
TZNAME:ACST
DTSTART:20220402T163000
END:STANDARD
BEGIN:DAYLIGHT
TZOFFSETFROM:+0930
TZOFFSETTO:+1030
TZNAME:ACDT
DTSTART:20221001T163000
END:DAYLIGHT
BEGIN:STANDARD
TZOFFSETFROM:+1030
TZOFFSETTO:+0930
TZNAME:ACST
DTSTART:20230401T163000
END:STANDARD
BEGIN:DAYLIGHT
TZOFFSETFROM:+0930
TZOFFSETTO:+1030
TZNAME:ACDT
DTSTART:20230930T163000
END:DAYLIGHT
BEGIN:STANDARD
TZOFFSETFROM:+1030
TZOFFSETTO:+0930
TZNAME:ACST
DTSTART:20240406T163000
END:STANDARD
BEGIN:DAYLIGHT
TZOFFSETFROM:+0930
TZOFFSETTO:+1030
TZNAME:ACDT
DTSTART:20241005T163000
END:DAYLIGHT
BEGIN:STANDARD
TZOFFSETFROM:+1030
TZOFFSETTO:+0930
TZNAME:ACST
DTSTART:20250405T163000
END:STANDARD
BEGIN:DAYLIGHT
TZOFFSETFROM:+0930
TZOFFSETTO:+1030
TZNAME:ACDT
DTSTART:20251004T163000
END:DAYLIGHT
BEGIN:STANDARD
TZOFFSETFROM:+1030
TZOFFSETTO:+0930
TZNAME:ACST
DTSTART:20260404T163000
END:STANDARD
BEGIN:DAYLIGHT
TZOFFSETFROM:+0930
TZOFFSETTO:+1030
TZNAME:ACDT
DTSTART:20261003T163000
END:DAYLIGHT
END:VTIMEZONE
BEGIN:VEVENT
DTSTART;VALUE=DATE:20250313
DTEND;VALUE=DATE:20250314
DTSTAMP:20260419T214344
CREATED:20241201T203205Z
LAST-MODIFIED:20250112T022817Z
UID:2680-1741824000-1741910399@southerngolfgroup.com
SUMMARY:2025 Links Lady Bay Women's Open Day
DESCRIPTION:2025 Links Lady Bay Women’s Open Day
URL:https://southerngolfgroup.com/events/2025-links-lady-bay-womens-open-day/
LOCATION:Links Lady Bay\, 73 St Andrews Boulevard\, Normanville\, SA\, Australia
CATEGORIES:Women's Open Event
END:VEVENT
BEGIN:VEVENT
DTSTART;VALUE=DATE:20250224
DTEND;VALUE=DATE:20250225
DTSTAMP:20260419T214344
CREATED:20241201T203016Z
LAST-MODIFIED:20250112T022933Z
UID:2678-1740355200-1740441599@southerngolfgroup.com
SUMMARY:2025 Echunga GC Women's Open Day
DESCRIPTION:2025 Echunga Women’s Open Day Flyer
URL:https://southerngolfgroup.com/events/2025-echunga-gc-womens-open-day/
LOCATION:Echunga Golf Club\, Corner Hahndorf & Dolman Roads\, Echunga\, Echunga\, 5153\, Australia
CATEGORIES:Women's Open Event
END:VEVENT
BEGIN:VEVENT
DTSTART;VALUE=DATE:20250219
DTEND;VALUE=DATE:20250220
DTSTAMP:20260419T214344
CREATED:20241201T202825Z
LAST-MODIFIED:20250112T023422Z
UID:2674-1739923200-1740009599@southerngolfgroup.com
SUMMARY:2025 Victor Harbor GC Ladies Open Day
DESCRIPTION:2025 Victor Harbor Women’s Open Day
URL:https://southerngolfgroup.com/events/2025-victor-harbor-gc-ladies-open-day/
LOCATION:Victor Harbor Golf Club\, 126 Inman Valley Road\, Victor Harbor\, SA\, 5211\, Australia
CATEGORIES:Women's Open Event
END:VEVENT
BEGIN:VEVENT
DTSTART;VALUE=DATE:20250217
DTEND;VALUE=DATE:20250218
DTSTAMP:20260419T214344
CREATED:20241201T202920Z
LAST-MODIFIED:20241201T210054Z
UID:2676-1739750400-1739836799@southerngolfgroup.com
SUMMARY:2025 South Lakes GC Women's Open Day
DESCRIPTION:2025 South Lakes GC Women’s Open Day
URL:https://southerngolfgroup.com/events/2025-south-lakes-gc-womens-open-day/
LOCATION:South Lakes Golf Club\, Billabong Road\, Goolwa\, South Australia\, 5214\, Australia
CATEGORIES:Women's Open Event
END:VEVENT
BEGIN:VEVENT
DTSTART;VALUE=DATE:20250206
DTEND;VALUE=DATE:20250207
DTSTAMP:20260419T214344
CREATED:20241201T202705Z
LAST-MODIFIED:20250109T082810Z
UID:2672-1738800000-1738886399@southerngolfgroup.com
SUMMARY:2025 McCracken GC Ladies Pink Ball Day
DESCRIPTION:2025 McCracken GC Pink Ball Charity Day_Flyer
URL:https://southerngolfgroup.com/events/2025-mccracken-gc-ladies-pink-ball-day/
LOCATION:McCracken Golf Club\, McCracken Drive\, McCracken\, South Australia\, 5211\, Australia
CATEGORIES:Women's Open Event
END:VEVENT
BEGIN:VEVENT
DTSTART;VALUE=DATE:20241115
DTEND;VALUE=DATE:20241116
DTSTAMP:20260419T214344
CREATED:20240916T104417Z
LAST-MODIFIED:20240916T104431Z
UID:2641-1731628800-1731715199@southerngolfgroup.com
SUMMARY:2024 Wirrina Cove Ladies Open Day
DESCRIPTION:2024 Wirrina Cove Ladies Open Day
URL:https://southerngolfgroup.com/events/2024-wirrina-cove-ladies-open-day/
LOCATION:Wirrina Cove GC\, 172 Paradise Drive\,\, Wirrina Cove\, South Australia\, 5204\, Australia
CATEGORIES:Women's Open Event
END:VEVENT
BEGIN:VEVENT
DTSTART;VALUE=DATE:20241001
DTEND;VALUE=DATE:20241005
DTSTAMP:20260419T214344
CREATED:20240825T042659Z
LAST-MODIFIED:20240825T042805Z
UID:2628-1727740800-1728086399@southerngolfgroup.com
SUMMARY:44th Annual Victor Harbor Ladies Classic
DESCRIPTION:Download Flyer – 44th Annual Victor Harbor Ladies Classic_Flyer
URL:https://southerngolfgroup.com/events/44th-annual-victor-harbor-ladies-classic/
LOCATION:Victor Harbor Golf Club\, 126 Inman Valley Road\, Victor Harbor\, SA\, 5211\, Australia
CATEGORIES:Women's Open Event
END:VEVENT
BEGIN:VEVENT
DTSTART;VALUE=DATE:20240920
DTEND;VALUE=DATE:20240921
DTSTAMP:20260419T214344
CREATED:20240111T064401Z
LAST-MODIFIED:20240718T071553Z
UID:2411-1726790400-1726876799@southerngolfgroup.com
SUMMARY:Willunga 2024 Women's Open Day
DESCRIPTION:Event Entry Form: 2024 Willunga Open Day \n 
URL:https://southerngolfgroup.com/events/willunga-2024-womens-open-day/
LOCATION:Willunga Golf Club\, St Peters Terrace\, Willunga\, SA\, 5172\, Australia
CATEGORIES:Women's Open Event
END:VEVENT
BEGIN:VEVENT
DTSTART;TZID=Australia/Adelaide:20240917T080000
DTEND;TZID=Australia/Adelaide:20240920T170000
DTSTAMP:20260419T214344
CREATED:20240708T062520Z
LAST-MODIFIED:20240708T062520Z
UID:2602-1726560000-1726851600@southerngolfgroup.com
SUMMARY:2024 Kangaroo Island Ladies Week
DESCRIPTION:Event Entry Form: 2024 Kangaroo Island Ladies Week
URL:https://southerngolfgroup.com/events/2024-kangaroo-island-ladies-week/
LOCATION:South Australia
CATEGORIES:Women's Open Event
END:VEVENT
BEGIN:VEVENT
DTSTART;VALUE=DATE:20240906
DTEND;VALUE=DATE:20240907
DTSTAMP:20260419T214344
CREATED:20240111T064305Z
LAST-MODIFIED:20240711T033413Z
UID:2409-1725580800-1725667199@southerngolfgroup.com
SUMMARY:Murray Bridge 2024 Women's Open Day
DESCRIPTION:2024 Murray Bridge Ladies Open Day Entry Form
URL:https://southerngolfgroup.com/events/murray-bridge-2024-womens-open-day/
LOCATION:Murray Bridge Golf Club\, 1 Ritter Street\, Murray Bridge\, South Australia\, 5254\, Australia
CATEGORIES:Women's Open Event
END:VEVENT
BEGIN:VEVENT
DTSTART;VALUE=DATE:20240823
DTEND;VALUE=DATE:20240824
DTSTAMP:20260419T214344
CREATED:20240111T064204Z
LAST-MODIFIED:20240619T232726Z
UID:2407-1724371200-1724457599@southerngolfgroup.com
SUMMARY:Oakbank 2024 Women's Open Day
DESCRIPTION:Event Flyer:  2024 Oakbank Ladies Open Day
URL:https://southerngolfgroup.com/events/oakbank-2024-womens-open-day/
LOCATION:Oakbank Golf Club\, Smith Street\, Oakbank\, South Australia\, 5243\, Australia
CATEGORIES:Women's Open Event
END:VEVENT
BEGIN:VEVENT
DTSTART;VALUE=DATE:20240802
DTEND;VALUE=DATE:20240803
DTSTAMP:20260419T214344
CREATED:20240111T064108Z
LAST-MODIFIED:20240707T043056Z
UID:2405-1722556800-1722643199@southerngolfgroup.com
SUMMARY:McLaren Vale 2024 Women's Open Day
DESCRIPTION:2024 McLaren Vale Gala Day Flyer
URL:https://southerngolfgroup.com/events/mclaren-vale-2024-womens-open-day/
LOCATION:McLaren Vale Golf Club\, 59 Signal Flat Rd\, Ashbourne\, South Australia\, 5157\, Australia
CATEGORIES:Women's Open Event
END:VEVENT
BEGIN:VEVENT
DTSTART;VALUE=DATE:20240412
DTEND;VALUE=DATE:20240413
DTSTAMP:20260419T214344
CREATED:20240111T063733Z
LAST-MODIFIED:20240225T042902Z
UID:2398-1712880000-1712966399@southerngolfgroup.com
SUMMARY:Aston Hills 2024 Women's Open Day
DESCRIPTION:Aston Hills 2024 Women’s Open Day
URL:https://southerngolfgroup.com/events/aston-hills-2024-womens-open-day/
LOCATION:Aston Hills Golf Club\, 435 Bald Hills Rd\, Mount Barker\, South Australia\, 5251\, Australia
CATEGORIES:Women's Open Event
END:VEVENT
BEGIN:VEVENT
DTSTART;VALUE=DATE:20240219
DTEND;VALUE=DATE:20240220
DTSTAMP:20260419T214344
CREATED:20240111T063316Z
LAST-MODIFIED:20240213T031232Z
UID:2391-1708300800-1708387199@southerngolfgroup.com
SUMMARY:South Lakes 2024 Women's Open Day
DESCRIPTION:2024 South Lakes Women’s Open Day
URL:https://southerngolfgroup.com/events/south-lakes-2024-womens-open-day/
LOCATION:South Lakes Golf Club\, Billabong Road\, Goolwa\, South Australia\, 5214\, Australia
CATEGORIES:Women's Open Event
END:VEVENT
BEGIN:VEVENT
DTSTART;VALUE=DATE:20240208
DTEND;VALUE=DATE:20240209
DTSTAMP:20260419T214344
CREATED:20240111T063015Z
LAST-MODIFIED:20240111T063121Z
UID:2388-1707350400-1707436799@southerngolfgroup.com
SUMMARY:McCracken 2024 Ladies Pink Ball Charity Day
DESCRIPTION:Entry Form coming soon
URL:https://southerngolfgroup.com/events/mccracken-golf-club-2024-pink-ball-charity-day/
LOCATION:McCracken Golf Club\, McCracken Drive\, McCracken\, South Australia\, 5211\, Australia
CATEGORIES:Women's Open Event
END:VEVENT
BEGIN:VEVENT
DTSTART;VALUE=DATE:20231110
DTEND;VALUE=DATE:20231111
DTSTAMP:20260419T214344
CREATED:20230104T050058Z
LAST-MODIFIED:20231102T213853Z
UID:1551-1699574400-1699660799@southerngolfgroup.com
SUMMARY:Wirrina Cove Women’s Open Day
DESCRIPTION:2023 Wirrina Womens Open_Flyer \n2023 Wirrina Womens Open_Entry Form
URL:https://southerngolfgroup.com/events/2023-wirrina-cove-womens-open-day/
LOCATION:Wirrina Cove GC\, 172 Paradise Drive\,\, Wirrina Cove\, South Australia\, 5204\, Australia
CATEGORIES:Women's Open Event
END:VEVENT
BEGIN:VEVENT
DTSTART;VALUE=DATE:20230922
DTEND;VALUE=DATE:20230923
DTSTAMP:20260419T214344
CREATED:20230104T045456Z
LAST-MODIFIED:20230623T064232Z
UID:1547-1695340800-1695427199@southerngolfgroup.com
SUMMARY:Willunga Open Mayor’s Day for Women
DESCRIPTION: Click here to download 2023 Willunga GC Mayor’s Day flyer \n 
URL:https://southerngolfgroup.com/events/2023-willunga-gc-womens-open-day/
LOCATION:Willunga Golf Club\, St Peters Terrace\, Willunga\, SA\, 5172\, Australia
CATEGORIES:Women's Open Event
END:VEVENT
BEGIN:VEVENT
DTSTART;VALUE=DATE:20230919
DTEND;VALUE=DATE:20230923
DTSTAMP:20260419T214344
CREATED:20230104T045404Z
LAST-MODIFIED:20230725T035251Z
UID:1545-1695081600-1695427199@southerngolfgroup.com
SUMMARY:Kangaroo Island Women's Golf Week
DESCRIPTION:2023 Kangaroo Island Women’s Country Week
URL:https://southerngolfgroup.com/events/2023-kangaroo-island-womens-golf-week/
LOCATION:South Australia
CATEGORIES:Women's Open Event
END:VEVENT
BEGIN:VEVENT
DTSTART;VALUE=DATE:20230901
DTEND;VALUE=DATE:20230902
DTSTAMP:20260419T214344
CREATED:20230104T045235Z
LAST-MODIFIED:20230717T082415Z
UID:1543-1693526400-1693612799@southerngolfgroup.com
SUMMARY:Murray Bridge GC Women’s Open Day
DESCRIPTION:2023 Murray Bridge Ladies Open Entry form
URL:https://southerngolfgroup.com/events/2023-murray-bridge-gc-womens-open-day/
LOCATION:Murray Bridge Golf Club\, 1 Ritter Street\, Murray Bridge\, South Australia\, 5254\, Australia
CATEGORIES:Women's Open Event
END:VEVENT
BEGIN:VEVENT
DTSTART;VALUE=DATE:20230825
DTEND;VALUE=DATE:20230826
DTSTAMP:20260419T214344
CREATED:20230104T045151Z
LAST-MODIFIED:20230717T082234Z
UID:1541-1692921600-1693007999@southerngolfgroup.com
SUMMARY:Oakbank Women’s Open Day
DESCRIPTION:Click to download Flyer 2023 Oakbank Ladies Open Day
URL:https://southerngolfgroup.com/events/2023-oakbank-womens-open-day/
LOCATION:Oakbank Golf Club\, Smith Street\, Oakbank\, South Australia\, 5243\, Australia
CATEGORIES:Women's Open Event
END:VEVENT
BEGIN:VEVENT
DTSTART;VALUE=DATE:20230804
DTEND;VALUE=DATE:20230805
DTSTAMP:20260419T214344
CREATED:20230104T045103Z
LAST-MODIFIED:20230623T064351Z
UID:1539-1691107200-1691193599@southerngolfgroup.com
SUMMARY:McLaren Vale Women’s Gala Day
DESCRIPTION:Click here to download 2023 McLaren Vale Gala Day Flyer
URL:https://southerngolfgroup.com/events/2023-mclaren-vale-womens-open-day/
LOCATION:McLaren Vale Golf Club\, 59 Signal Flat Rd\, Ashbourne\, South Australia\, 5157\, Australia
CATEGORIES:Women's Open Event
END:VEVENT
BEGIN:VEVENT
DTSTART;VALUE=DATE:20230526
DTEND;VALUE=DATE:20230527
DTSTAMP:20260419T214344
CREATED:20230104T045015Z
LAST-MODIFIED:20230411T012406Z
UID:1535-1685059200-1685145599@southerngolfgroup.com
SUMMARY:Strathalbyn Women’s Gala Day
DESCRIPTION:2023 Strathalbyn Gala Day_Entry Form
URL:https://southerngolfgroup.com/events/2023-strathalbyn-womens-gala-day/
LOCATION:Strathalbyn Golf Club\, Cox Road\, Strathalbyn\, South Australia\, 5255\, Australia
CATEGORIES:Women's Open Event
END:VEVENT
BEGIN:VEVENT
DTSTART;VALUE=DATE:20230331
DTEND;VALUE=DATE:20230401
DTSTAMP:20260419T214344
CREATED:20230104T044326Z
LAST-MODIFIED:20230221T045312Z
UID:1531-1680220800-1680307199@southerngolfgroup.com
SUMMARY:Aston Hills GC Women’s Open Day
DESCRIPTION:Download Flyer: 2023 Aston Hills Women’s Open Day
URL:https://southerngolfgroup.com/events/2023-aston-hills-gc-womens-open-day/
LOCATION:Aston Hills Golf Club\, 435 Bald Hills Rd\, Mount Barker\, South Australia\, 5251\, Australia
CATEGORIES:Women's Open Event
END:VEVENT
BEGIN:VEVENT
DTSTART;VALUE=DATE:20230316
DTEND;VALUE=DATE:20230317
DTSTAMP:20260419T214344
CREATED:20230104T044247Z
LAST-MODIFIED:20230221T045337Z
UID:1527-1678924800-1679011199@southerngolfgroup.com
SUMMARY:Links Lady Bay Women’s Open Day
DESCRIPTION:Download Flyer/Registration Form:  2023 Links Lady Bay Women’s Open Day
URL:https://southerngolfgroup.com/events/2023-links-lady-bay-womens-open-day/
LOCATION:Links Lady Bay\, 73 St Andrews Boulevard\, Normanville\, SA\, Australia
CATEGORIES:Women's Open Event
END:VEVENT
BEGIN:VEVENT
DTSTART;VALUE=DATE:20230227
DTEND;VALUE=DATE:20230228
DTSTAMP:20260419T214344
CREATED:20230104T043753Z
LAST-MODIFIED:20230118T055725Z
UID:1524-1677456000-1677542399@southerngolfgroup.com
SUMMARY:Echunga GC Women’s Open Day
DESCRIPTION:Download Event Flyer:  2023 Echunga Women’s Open Day Flyer
URL:https://southerngolfgroup.com/events/echunga-gc-womens-open-day/
LOCATION:Echunga Golf Club\, Corner Hahndorf & Dolman Roads\, Echunga\, Echunga\, 5153\, Australia
CATEGORIES:Women's Open Event
END:VEVENT
BEGIN:VEVENT
DTSTART;VALUE=DATE:20230220
DTEND;VALUE=DATE:20230221
DTSTAMP:20260419T214344
CREATED:20230104T043431Z
LAST-MODIFIED:20230221T045457Z
UID:1521-1676851200-1676937599@southerngolfgroup.com
SUMMARY:South Lakes Women’s Open Day
DESCRIPTION:Download Flyer: 2023 South Lakes Women’s Open Day
URL:https://southerngolfgroup.com/events/2023-south-lakes-womens-open-day/
LOCATION:South Lakes Golf Club\, Billabong Road\, Goolwa\, South Australia\, 5214\, Australia
CATEGORIES:Women's Open Event
END:VEVENT
BEGIN:VEVENT
DTSTART;VALUE=DATE:20230217
DTEND;VALUE=DATE:20230218
DTSTAMP:20260419T214344
CREATED:20230104T042953Z
LAST-MODIFIED:20230108T003617Z
UID:1517-1676592000-1676678399@southerngolfgroup.com
SUMMARY:2023 Victor Harbor GC Women’s Open Day
DESCRIPTION:
URL:https://southerngolfgroup.com/events/2023-victor-harbor-gc-womens-open-day/
LOCATION:Victor Harbor Golf Club\, 126 Inman Valley Road\, Victor Harbor\, SA\, 5211\, Australia
CATEGORIES:Women's Open Event
END:VEVENT
BEGIN:VEVENT
DTSTART;VALUE=DATE:20230209
DTEND;VALUE=DATE:20230210
DTSTAMP:20260419T214344
CREATED:20230104T042753Z
LAST-MODIFIED:20230108T003840Z
UID:1513-1675900800-1675987199@southerngolfgroup.com
SUMMARY:2023 McCracken GC Pink Ball Day
DESCRIPTION:2023 McCracken GC Pink Ball Day Flyer
URL:https://southerngolfgroup.com/events/mccracken-gc-pink-ball-day/
LOCATION:McCracken Golf Club\, McCracken Drive\, McCracken\, South Australia\, 5211\, Australia
CATEGORIES:Women's Open Event
END:VEVENT
END:VCALENDAR